BEGIN:VCALENDAR
VERSION:2.0
CALSCALE:GREGORIAN
PRODID:adamgibbons/ics
METHOD:PUBLISH
X-PUBLISHED-TTL:PT1H
BEGIN:VEVENT
UID:20078@offbeat.amsterdam
SUMMARY:Pedro Sampaio
DTSTAMP:20260420T035430Z
DTSTART:20260701T170000Z
URL:https://offbeat.amsterdam/event/pedro-sampaio
GEO:52.3647777;4.881073026725959
LOCATION:Melkweg - Lijnbaansgracht 234A\, 1017 PH Amsterdam
STATUS:CONFIRMED
CATEGORIES:amsterdam-centrum,baile funk,concert,danceable,leidseplein,pop
END:VEVENT
END:VCALENDAR
